BEGIN:VCALENDAR
VERSION:2.0
PRODID:-//Macclesfield Methodist Church - ECPv4.7.4//NONSGML v1.0//EN
CALSCALE:GREGORIAN
METHOD:PUBLISH
X-WR-CALNAME:Macclesfield Methodist Church
X-ORIGINAL-URL:http://www.methodistchurchmacclesfield.org.uk
X-WR-CALDESC:Events for Macclesfield Methodist Church
BEGIN:VEVENT
DTSTART;TZID=Europe/London:20190317T103000
DTEND;TZID=Europe/London:20190317T123000
DTSTAMP:20260425T003107
CREATED:20190201T162712Z
LAST-MODIFIED:20190201T162712Z
UID:455-1552818600-1552825800@www.methodistchurchmacclesfield.org.uk
SUMMARY:20 years of Baptisms Celebration Service
DESCRIPTION:
URL:http://www.methodistchurchmacclesfield.org.uk/events/20-years-of-baptisms-celebration-service/
END:VEVENT
END:VCALENDAR