BEGIN:VCALENDAR
VERSION:2.0
PRODID:-//Macclesfield Methodist Church - ECPv4.7.4//NONSGML v1.0//EN
CALSCALE:GREGORIAN
METHOD:PUBLISH
X-WR-CALNAME:Macclesfield Methodist Church
X-ORIGINAL-URL:http://www.methodistchurchmacclesfield.org.uk
X-WR-CALDESC:Events for Macclesfield Methodist Church
BEGIN:VEVENT
DTSTART;TZID=Europe/London:20180311T103000
DTEND;TZID=Europe/London:20180311T113000
DTSTAMP:20260425T210624
CREATED:20180309T135130Z
LAST-MODIFIED:20180309T135130Z
UID:401-1520764200-1520767800@www.methodistchurchmacclesfield.org.uk
SUMMARY:Sunday Service
DESCRIPTION:
URL:http://www.methodistchurchmacclesfield.org.uk/events/sunday-service-4/
CATEGORIES:Church Service
END:VEVENT
END:VCALENDAR