BEGIN:VCALENDAR
VERSION:2.0
PRODID:-//Macclesfield Methodist Church - ECPv4.7.4//NONSGML v1.0//EN
CALSCALE:GREGORIAN
METHOD:PUBLISH
X-WR-CALNAME:Macclesfield Methodist Church
X-ORIGINAL-URL:http://www.methodistchurchmacclesfield.org.uk
X-WR-CALDESC:Events for Macclesfield Methodist Church
BEGIN:VEVENT
DTSTART;TZID=Europe/London:20180519T130000
DTEND;TZID=Europe/London:20180519T150000
DTSTAMP:20260425T180732
CREATED:20180429T193755Z
LAST-MODIFIED:20180429T193755Z
UID:409-1526734800-1526742000@www.methodistchurchmacclesfield.org.uk
SUMMARY:Plant Sale
DESCRIPTION:Summer bedding plants are available for purchase. Coffee\, tea and cakes also available. Come along and support the church. Entrance is free! \n
URL:http://www.methodistchurchmacclesfield.org.uk/events/plant-sale/
CATEGORIES:Church Fundraiser
ATTACH;FMTTYPE=image/jpeg:http://www.methodistchurchmacclesfield.org.uk/wp-content/uploads/2018/04/Summer-Bedding-800x486.jpg
END:VEVENT
END:VCALENDAR