BEGIN:VCALENDAR
VERSION:2.0
PRODID:-//Macclesfield Methodist Church - ECPv4.7.4//NONSGML v1.0//EN
CALSCALE:GREGORIAN
METHOD:PUBLISH
X-WR-CALNAME:Macclesfield Methodist Church
X-ORIGINAL-URL:http://www.methodistchurchmacclesfield.org.uk
X-WR-CALDESC:Events for Macclesfield Methodist Church
BEGIN:VEVENT
DTSTART;TZID=Europe/London:20190316T100000
DTEND;TZID=Europe/London:20190316T170000
DTSTAMP:20260424T232158
CREATED:20190201T162633Z
LAST-MODIFIED:20190201T162633Z
UID:453-1552730400-1552755600@www.methodistchurchmacclesfield.org.uk
SUMMARY:20th Anniversary Church Walk
DESCRIPTION:
URL:http://www.methodistchurchmacclesfield.org.uk/events/20th-anniversary-church-walk/
CATEGORIES:Church Excursion
END:VEVENT
END:VCALENDAR