BEGIN:VCALENDAR
VERSION:2.0
PRODID:-//Macclesfield Methodist Church - ECPv4.7.4//NONSGML v1.0//EN
CALSCALE:GREGORIAN
METHOD:PUBLISH
X-WR-CALNAME:Macclesfield Methodist Church
X-ORIGINAL-URL:http://www.methodistchurchmacclesfield.org.uk
X-WR-CALDESC:Events for Macclesfield Methodist Church
BEGIN:VEVENT
DTSTART;TZID=Europe/London:20190514T193000
DTEND;TZID=Europe/London:20190514T210000
DTSTAMP:20260424T202208
CREATED:20190429T203545Z
LAST-MODIFIED:20190429T203756Z
UID:540-1557862200-1557867600@www.methodistchurchmacclesfield.org.uk
SUMMARY:Wesley Guild
DESCRIPTION:Illustrated talk on a ‘Pilgrimage through the Peak District’ \n
URL:http://www.methodistchurchmacclesfield.org.uk/events/ladies-circle-meet/
LOCATION:Macc Methodist Church
END:VEVENT
END:VCALENDAR