BEGIN:VCALENDAR
VERSION:2.0
PRODID:-//Macclesfield Methodist Church - ECPv4.7.4//NONSGML v1.0//EN
CALSCALE:GREGORIAN
METHOD:PUBLISH
X-WR-CALNAME:Macclesfield Methodist Church
X-ORIGINAL-URL:http://www.methodistchurchmacclesfield.org.uk
X-WR-CALDESC:Events for Macclesfield Methodist Church
BEGIN:VEVENT
DTSTART;TZID=Europe/London:20190525T110000
DTEND;TZID=Europe/London:20190525T133000
DTSTAMP:20260424T202152
CREATED:20190429T204701Z
LAST-MODIFIED:20190429T204701Z
UID:550-1558782000-1558791000@www.methodistchurchmacclesfield.org.uk
SUMMARY:Plant sale
DESCRIPTION:Refreshments available \n
URL:http://www.methodistchurchmacclesfield.org.uk/events/plant-sale-2/
LOCATION:Macc Methodist Church
END:VEVENT
END:VCALENDAR