BEGIN:VCALENDAR
VERSION:2.0
PRODID:-//Macclesfield Methodist Church - ECPv4.7.4//NONSGML v1.0//EN
CALSCALE:GREGORIAN
METHOD:PUBLISH
X-WR-CALNAME:Macclesfield Methodist Church
X-ORIGINAL-URL:http://www.methodistchurchmacclesfield.org.uk
X-WR-CALDESC:Events for Macclesfield Methodist Church
BEGIN:VEVENT
DTSTART;TZID=Europe/London:20190621T100000
DTEND;TZID=Europe/London:20190623T170000
DTSTAMP:20260424T182317
CREATED:20190429T202455Z
LAST-MODIFIED:20190429T202455Z
UID:529-1561111200-1561309200@www.methodistchurchmacclesfield.org.uk
SUMMARY:Flower festival
DESCRIPTION:The church will be decorated with beautiful flowers for all to enjoy. \n
URL:http://www.methodistchurchmacclesfield.org.uk/events/flower-festival/
LOCATION:Macc Methodist Church
END:VEVENT
END:VCALENDAR