BEGIN:VCALENDAR
VERSION:2.0
PRODID:-//Macclesfield Methodist Church - ECPv4.7.4//NONSGML v1.0//EN
CALSCALE:GREGORIAN
METHOD:PUBLISH
X-WR-CALNAME:Macclesfield Methodist Church
X-ORIGINAL-URL:http://www.methodistchurchmacclesfield.org.uk
X-WR-CALDESC:Events for Macclesfield Methodist Church
BEGIN:VEVENT
DTSTART;TZID=Europe/London:20190714T103000
DTEND;TZID=Europe/London:20190714T140000
DTSTAMP:20260424T163238
CREATED:20190708T182212Z
LAST-MODIFIED:20190708T182243Z
UID:581-1563100200-1563112800@www.methodistchurchmacclesfield.org.uk
SUMMARY:Sunday School Service and Picnic
DESCRIPTION:Service led by the young people of the Sunday School including drama\, prayers and music. Picnic in West Park after the service with games and a Treasure Hunt. \n
URL:http://www.methodistchurchmacclesfield.org.uk/events/sunday-school-service-and-picnic/
LOCATION:Macc Methodist Church
END:VEVENT
BEGIN:VEVENT
DTSTART;TZID=Europe/London:20190714T170000
DTEND;TZID=Europe/London:20190714T193000
DTSTAMP:20260424T163238
CREATED:20190708T183756Z
LAST-MODIFIED:20190708T183756Z
UID:591-1563123600-1563132600@www.methodistchurchmacclesfield.org.uk
SUMMARY:Christian Aid BBQ
DESCRIPTION:BBQ in aid of Christian Aid \n
URL:http://www.methodistchurchmacclesfield.org.uk/events/christian-aid-bbq/
END:VEVENT
END:VCALENDAR