BEGIN:VCALENDAR
VERSION:2.0
PRODID:-//Macclesfield Methodist Church - ECPv4.7.4//NONSGML v1.0//EN
CALSCALE:GREGORIAN
METHOD:PUBLISH
X-WR-CALNAME:Macclesfield Methodist Church
X-ORIGINAL-URL:http://www.methodistchurchmacclesfield.org.uk
X-WR-CALDESC:Events for Macclesfield Methodist Church
BEGIN:VEVENT
DTSTART;TZID=Europe/London:20190907T140000
DTEND;TZID=Europe/London:20190907T160000
DTSTAMP:20260424T130321
CREATED:20190429T202817Z
LAST-MODIFIED:20190429T202852Z
UID:533-1567864800-1567872000@www.methodistchurchmacclesfield.org.uk
SUMMARY:Messy Church
DESCRIPTION:Crafts and activities for children. See facebook page for details \n
URL:http://www.methodistchurchmacclesfield.org.uk/events/messy-church/
LOCATION:Macc Methodist Church
END:VEVENT
END:VCALENDAR