BEGIN:VCALENDAR
VERSION:2.0
PRODID:-//Macclesfield Methodist Church - ECPv4.7.4//NONSGML v1.0//EN
CALSCALE:GREGORIAN
METHOD:PUBLISH
X-WR-CALNAME:Macclesfield Methodist Church
X-ORIGINAL-URL:http://www.methodistchurchmacclesfield.org.uk
X-WR-CALDESC:Events for Macclesfield Methodist Church
BEGIN:VEVENT
DTSTART;TZID=Europe/London:20190915T103000
DTEND;TZID=Europe/London:20190915T113000
DTSTAMP:20260424T143334
CREATED:20190708T183526Z
LAST-MODIFIED:20190708T183526Z
UID:589-1568543400-1568547000@www.methodistchurchmacclesfield.org.uk
SUMMARY:Service led by the men
DESCRIPTION:Service led by male members of the congregation \n
URL:http://www.methodistchurchmacclesfield.org.uk/events/service-led-by-the-men/
LOCATION:Macc Methodist Church
END:VEVENT
END:VCALENDAR