BEGIN:VCALENDAR
VERSION:2.0
PRODID:-//Macclesfield Methodist Church - ECPv4.7.4//NONSGML v1.0//EN
CALSCALE:GREGORIAN
METHOD:PUBLISH
X-WR-CALNAME:Macclesfield Methodist Church
X-ORIGINAL-URL:http://www.methodistchurchmacclesfield.org.uk
X-WR-CALDESC:Events for Macclesfield Methodist Church
BEGIN:VEVENT
DTSTART;TZID=Europe/London:20191102T140000
DTEND;TZID=Europe/London:20191102T160000
DTSTAMP:20260424T101717
CREATED:20190429T205313Z
LAST-MODIFIED:20190429T205313Z
UID:556-1572703200-1572710400@www.methodistchurchmacclesfield.org.uk
SUMMARY:Messy Church Light Party
DESCRIPTION:Crafts and activities for children. See Facebook  for details of how to book. \n
URL:http://www.methodistchurchmacclesfield.org.uk/events/messy-church-light-party/
LOCATION:Macc Methodist Church
END:VEVENT
END:VCALENDAR