BEGIN:VCALENDAR
VERSION:2.0
PRODID:-//Macclesfield Methodist Church - ECPv4.7.4//NONSGML v1.0//EN
CALSCALE:GREGORIAN
METHOD:PUBLISH
X-WR-CALNAME:Macclesfield Methodist Church
X-ORIGINAL-URL:http://www.methodistchurchmacclesfield.org.uk
X-WR-CALDESC:Events for Macclesfield Methodist Church
BEGIN:VEVENT
DTSTART;TZID=Europe/London:20191114T140000
DTEND;TZID=Europe/London:20191114T163000
DTSTAMP:20260424T101801
CREATED:20190922T144353Z
LAST-MODIFIED:20190922T144353Z
UID:601-1573740000-1573749000@www.methodistchurchmacclesfield.org.uk
SUMMARY:Ladies circle
DESCRIPTION:
URL:http://www.methodistchurchmacclesfield.org.uk/events/ladies-circle-5/
LOCATION:Macc Methodist Church
END:VEVENT
END:VCALENDAR