BEGIN:VCALENDAR
VERSION:2.0
PRODID:-//Macclesfield Methodist Church - ECPv4.7.4//NONSGML v1.0//EN
CALSCALE:GREGORIAN
METHOD:PUBLISH
X-WR-CALNAME:Macclesfield Methodist Church
X-ORIGINAL-URL:http://www.methodistchurchmacclesfield.org.uk
X-WR-CALDESC:Events for Macclesfield Methodist Church
BEGIN:VEVENT
DTSTART;TZID=Europe/London:20191130T193000
DTEND;TZID=Europe/London:20191130T213000
DTSTAMP:20260424T085346
CREATED:20191124T184815Z
LAST-MODIFIED:20191124T184815Z
UID:622-1575142200-1575149400@www.methodistchurchmacclesfield.org.uk
SUMMARY:Performance of Haydn's 'Creation'.
DESCRIPTION:Performance by Macclesfield Methodist Community Choir with guest soloists Denise Leigh (soprano)\, Philip Cartwright (tenor) and George Hulbert (bass). Tickets £10 adults £5 children. \n
URL:http://www.methodistchurchmacclesfield.org.uk/events/performance-of-haydns-creation/
END:VEVENT
END:VCALENDAR