BEGIN:VCALENDAR
VERSION:2.0
PRODID:-//Macclesfield Methodist Church - ECPv4.7.4//NONSGML v1.0//EN
CALSCALE:GREGORIAN
METHOD:PUBLISH
X-WR-CALNAME:Macclesfield Methodist Church
X-ORIGINAL-URL:http://www.methodistchurchmacclesfield.org.uk
X-WR-CALDESC:Events for Macclesfield Methodist Church
BEGIN:VEVENT
DTSTART;TZID=Europe/London:20191207T140000
DTEND;TZID=Europe/London:20191207T160000
DTSTAMP:20260424T085349
CREATED:20190429T205650Z
LAST-MODIFIED:20190429T205650Z
UID:560-1575727200-1575734400@www.methodistchurchmacclesfield.org.uk
SUMMARY:Messy Christmas
DESCRIPTION:Christmas activities and Crafts for children See Facebook to book \n
URL:http://www.methodistchurchmacclesfield.org.uk/events/messy-christmas/
END:VEVENT
END:VCALENDAR