BEGIN:VCALENDAR
VERSION:2.0
PRODID:-//Macclesfield Methodist Church - ECPv4.7.4//NONSGML v1.0//EN
CALSCALE:GREGORIAN
METHOD:PUBLISH
X-WR-CALNAME:Macclesfield Methodist Church
X-ORIGINAL-URL:http://www.methodistchurchmacclesfield.org.uk
X-WR-CALDESC:Events for Macclesfield Methodist Church
BEGIN:VEVENT
DTSTART;TZID=Europe/London:20191216T193000
DTEND;TZID=Europe/London:20191216T203000
DTSTAMP:20260424T084030
CREATED:20191124T184031Z
LAST-MODIFIED:20191124T184031Z
UID:617-1576524600-1576528200@www.methodistchurchmacclesfield.org.uk
SUMMARY:Advent reflection
DESCRIPTION:Reflection on advent \n
URL:http://www.methodistchurchmacclesfield.org.uk/events/advent-reflection-4/
LOCATION:Macc Methodist Church
END:VEVENT
END:VCALENDAR