BEGIN:VCALENDAR
VERSION:2.0
PRODID:-//Macclesfield Methodist Church - ECPv4.7.4//NONSGML v1.0//EN
CALSCALE:GREGORIAN
METHOD:PUBLISH
X-WR-CALNAME:Macclesfield Methodist Church
X-ORIGINAL-URL:http://www.methodistchurchmacclesfield.org.uk
X-WR-CALDESC:Events for Macclesfield Methodist Church
BEGIN:VEVENT
DTSTART;TZID=Europe/London:20191222T103000
DTEND;TZID=Europe/London:20191222T113000
DTSTAMP:20260424T085817
CREATED:20190429T205946Z
LAST-MODIFIED:20190429T205946Z
UID:564-1577010600-1577014200@www.methodistchurchmacclesfield.org.uk
SUMMARY:All Age Nativity
DESCRIPTION:
URL:http://www.methodistchurchmacclesfield.org.uk/events/all-age-nativity/
LOCATION:Macc Methodist Church
CATEGORIES:Church Service
END:VEVENT
END:VCALENDAR