BEGIN:VCALENDAR
VERSION:2.0
PRODID:-//Macclesfield Methodist Church - ECPv4.7.4//NONSGML v1.0//EN
CALSCALE:GREGORIAN
METHOD:PUBLISH
X-WR-CALNAME:Macclesfield Methodist Church
X-ORIGINAL-URL:http://www.methodistchurchmacclesfield.org.uk
X-WR-CALDESC:Events for Macclesfield Methodist Church
BEGIN:VEVENT
DTSTART;TZID=Europe/London:20190518T190000
DTEND;TZID=Europe/London:20190518T210000
DTSTAMP:20260424T214949
CREATED:20190429T202208Z
LAST-MODIFIED:20190429T202208Z
UID:527-1558206000-1558213200@www.methodistchurchmacclesfield.org.uk
SUMMARY:Disney concert
DESCRIPTION:A musical evening of Disney film tunes. \n
URL:http://www.methodistchurchmacclesfield.org.uk/events/disney-concert/
LOCATION:Macc Methodist Church
END:VEVENT
END:VCALENDAR