BEGIN:VCALENDAR
VERSION:2.0
PRODID:-//Macclesfield Methodist Church - ECPv4.7.4//NONSGML v1.0//EN
CALSCALE:GREGORIAN
METHOD:PUBLISH
X-WR-CALNAME:Macclesfield Methodist Church
X-ORIGINAL-URL:http://www.methodistchurchmacclesfield.org.uk
X-WR-CALDESC:Events for Macclesfield Methodist Church
BEGIN:VEVENT
DTSTART;TZID=Europe/London:20190421T103000
DTEND;TZID=Europe/London:20190421T123000
DTSTAMP:20260424T220400
CREATED:20190201T163049Z
LAST-MODIFIED:20190201T163049Z
UID:463-1555842600-1555849800@www.methodistchurchmacclesfield.org.uk
SUMMARY:Easter Sunday traditional service
DESCRIPTION:
URL:http://www.methodistchurchmacclesfield.org.uk/events/easter-sunday-traditional-service/
END:VEVENT
END:VCALENDAR