BEGIN:VCALENDAR
VERSION:2.0
PRODID:-//Macclesfield Methodist Church - ECPv4.7.4//NONSGML v1.0//EN
CALSCALE:GREGORIAN
METHOD:PUBLISH
X-WR-CALNAME:Macclesfield Methodist Church
X-ORIGINAL-URL:http://www.methodistchurchmacclesfield.org.uk
X-WR-CALDESC:Events for Macclesfield Methodist Church
BEGIN:VEVENT
DTSTART;TZID=Europe/London:20190914T190000
DTEND;TZID=Europe/London:20190914T210000
DTSTAMP:20260424T133306
CREATED:20190429T203033Z
LAST-MODIFIED:20190429T203033Z
UID:536-1568487600-1568494800@www.methodistchurchmacclesfield.org.uk
SUMMARY:Festival of music
DESCRIPTION:Concert \n
URL:http://www.methodistchurchmacclesfield.org.uk/events/festival-of-music/
LOCATION:Macc Methodist Church
END:VEVENT
END:VCALENDAR