BEGIN:VCALENDAR
VERSION:2.0
PRODID:-//Macclesfield Methodist Church - ECPv4.7.4//NONSGML v1.0//EN
CALSCALE:GREGORIAN
METHOD:PUBLISH
X-WR-CALNAME:Macclesfield Methodist Church
X-ORIGINAL-URL:http://www.methodistchurchmacclesfield.org.uk
X-WR-CALDESC:Events for Macclesfield Methodist Church
BEGIN:VEVENT
DTSTART;TZID=Europe/London:20190419T190000
DTEND;TZID=Europe/London:20190419T190000
DTSTAMP:20260424T231642
CREATED:20190201T162908Z
LAST-MODIFIED:20190201T162908Z
UID:459-1555700400-1555700400@www.methodistchurchmacclesfield.org.uk
SUMMARY:Good Friday St John's Passion
DESCRIPTION:
URL:http://www.methodistchurchmacclesfield.org.uk/events/good-friday-st-johns-passion/
END:VEVENT
END:VCALENDAR