BEGIN:VCALENDAR
VERSION:2.0
PRODID:-//Macclesfield Methodist Church - ECPv4.7.4//NONSGML v1.0//EN
CALSCALE:GREGORIAN
METHOD:PUBLISH
X-WR-CALNAME:Macclesfield Methodist Church
X-ORIGINAL-URL:http://www.methodistchurchmacclesfield.org.uk
X-WR-CALDESC:Events for Macclesfield Methodist Church
BEGIN:VEVENT
DTSTART;TZID=Europe/London:20190502T140000
DTEND;TZID=Europe/London:20190502T160000
DTSTAMP:20260424T201517
CREATED:20190429T204224Z
LAST-MODIFIED:20190429T204224Z
UID:544-1556805600-1556812800@www.methodistchurchmacclesfield.org.uk
SUMMARY:Ladies Circle
DESCRIPTION:
URL:http://www.methodistchurchmacclesfield.org.uk/events/ladies-circle/
LOCATION:Macc Methodist Church
END:VEVENT
END:VCALENDAR