BEGIN:VCALENDAR
VERSION:2.0
PRODID:-//Macclesfield Methodist Church - ECPv4.7.4//NONSGML v1.0//EN
CALSCALE:GREGORIAN
METHOD:PUBLISH
X-WR-CALNAME:Macclesfield Methodist Church
X-ORIGINAL-URL:http://www.methodistchurchmacclesfield.org.uk
X-WR-CALDESC:Events for Macclesfield Methodist Church
BEGIN:VEVENT
DTSTART;TZID=Europe/London:20190413T140000
DTEND;TZID=Europe/London:20190413T160000
DTSTAMP:20260424T214244
CREATED:20190201T162825Z
LAST-MODIFIED:20190201T162825Z
UID:457-1555164000-1555171200@www.methodistchurchmacclesfield.org.uk
SUMMARY:Messy Easter
DESCRIPTION:Easter themed activities\, crafts\, games and music for children from 0-11. Parents or Guardians to stay with children at all times. Light meal at the end of the session which runs from 2 to 4 pm. Cost £1 per child. Book via facebook page (www.facebook.com/maccmethodistkids) or by contacting Clare\, our Children and Family Worker on 07710 801168/clarechurchfamily@gmail.com \n
URL:http://www.methodistchurchmacclesfield.org.uk/events/messy-easter/
END:VEVENT
END:VCALENDAR