BEGIN:VCALENDAR
VERSION:2.0
PRODID:-//Macclesfield Methodist Church - ECPv4.7.4//NONSGML v1.0//EN
CALSCALE:GREGORIAN
METHOD:PUBLISH
X-WR-CALNAME:Macclesfield Methodist Church
X-ORIGINAL-URL:http://www.methodistchurchmacclesfield.org.uk
X-WR-CALDESC:Events for Macclesfield Methodist Church
BEGIN:VEVENT
DTSTART;TZID=Europe/London:20190302T193000
DTEND;TZID=Europe/London:20190302T223000
DTSTAMP:20260424T231023
CREATED:20190201T162137Z
LAST-MODIFIED:20190201T162137Z
UID:448-1551555000-1551565800@www.methodistchurchmacclesfield.org.uk
SUMMARY:Phil Kelsall Concert
DESCRIPTION:
URL:http://www.methodistchurchmacclesfield.org.uk/events/phil-kelsall-concert/
END:VEVENT
END:VCALENDAR