BEGIN:VCALENDAR
VERSION:2.0
PRODID:-//Macclesfield Methodist Church - ECPv4.7.4//NONSGML v1.0//EN
CALSCALE:GREGORIAN
METHOD:PUBLISH
X-WR-CALNAME:Macclesfield Methodist Church
X-ORIGINAL-URL:http://www.methodistchurchmacclesfield.org.uk
X-WR-CALDESC:Events for Macclesfield Methodist Church
BEGIN:VEVENT
DTSTART;TZID=Europe/London:20190520T200000
DTEND;TZID=Europe/London:20190520T210000
DTSTAMP:20260424T201157
CREATED:20190429T204503Z
LAST-MODIFIED:20190429T204503Z
UID:548-1558382400-1558386000@www.methodistchurchmacclesfield.org.uk
SUMMARY:Prayer Group
DESCRIPTION:Meeting in the Gold Room \n
URL:http://www.methodistchurchmacclesfield.org.uk/events/prayer-group/
LOCATION:Macc Methodist Church
END:VEVENT
END:VCALENDAR