BEGIN:VCALENDAR
VERSION:2.0
PRODID:-//Macclesfield Methodist Church - ECPv4.7.4//NONSGML v1.0//EN
CALSCALE:GREGORIAN
METHOD:PUBLISH
X-WR-CALNAME:Macclesfield Methodist Church
X-ORIGINAL-URL:http://www.methodistchurchmacclesfield.org.uk
X-WR-CALDESC:Events for Macclesfield Methodist Church
BEGIN:VEVENT
DTSTART;TZID=Europe/London:20190730T093000
DTEND;TZID=Europe/London:20190730T130000
DTSTAMP:20260424T164137
CREATED:20190201T163335Z
LAST-MODIFIED:20190708T180814Z
UID:465-1564479000-1564491600@www.methodistchurchmacclesfield.org.uk
SUMMARY:Summer Holiday Club
DESCRIPTION:Starship Discovery Holiday club for Primary school aged children.  Cost £6 per day. Booking essential. email maccmethodistchurch@gmail.com to book. For further details see facebook page (www.facebook.com/MaccMethodistKids) \n30th July to 1st August 9:30 – 13.00 \n
URL:http://www.methodistchurchmacclesfield.org.uk/events/summer-holiday-club/
LOCATION:Macc Methodist Church
END:VEVENT
END:VCALENDAR