BEGIN:VCALENDAR
VERSION:2.0
PRODID:-//Macclesfield Methodist Church - ECPv4.7.4//NONSGML v1.0//EN
CALSCALE:GREGORIAN
METHOD:PUBLISH
X-WR-CALNAME:Macclesfield Methodist Church
X-ORIGINAL-URL:http://www.methodistchurchmacclesfield.org.uk
X-WR-CALDESC:Events for Macclesfield Methodist Church
BEGIN:VEVENT
DTSTART;TZID=Europe/London:20180121T103000
DTEND;TZID=Europe/London:20180121T113000
DTSTAMP:20260425T125135
CREATED:20180109T133050Z
LAST-MODIFIED:20180109T133050Z
UID:214-1516530600-1516534200@www.methodistchurchmacclesfield.org.uk
SUMMARY:Sunday Service
DESCRIPTION:
URL:http://www.methodistchurchmacclesfield.org.uk/events/sunday-service/
CATEGORIES:Church Service
END:VEVENT
END:VCALENDAR