BEGIN:VCALENDAR
VERSION:2.0
PRODID:-//Macclesfield Methodist Church - ECPv4.7.4//NONSGML v1.0//EN
CALSCALE:GREGORIAN
METHOD:PUBLISH
X-WR-CALNAME:Macclesfield Methodist Church
X-ORIGINAL-URL:http://www.methodistchurchmacclesfield.org.uk
X-WR-CALDESC:Events for Macclesfield Methodist Church
BEGIN:VEVENT
DTSTART;TZID=Europe/London:20191103T150000
DTEND;TZID=Europe/London:20191103T160000
DTSTAMP:20260424T101702
CREATED:20190429T205443Z
LAST-MODIFIED:20190429T205443Z
UID:558-1572793200-1572796800@www.methodistchurchmacclesfield.org.uk
SUMMARY:Time to remember service
DESCRIPTION:
URL:http://www.methodistchurchmacclesfield.org.uk/events/time-to-remember-service/
LOCATION:Macc Methodist Church
CATEGORIES:Church Service
END:VEVENT
END:VCALENDAR