BEGIN:VCALENDAR
VERSION:2.0
PRODID:-//Macclesfield Methodist Church - ECPv4.7.4//NONSGML v1.0//EN
CALSCALE:GREGORIAN
METHOD:PUBLISH
X-WR-CALNAME:Macclesfield Methodist Church
X-ORIGINAL-URL:http://www.methodistchurchmacclesfield.org.uk
X-WR-CALDESC:Events for Macclesfield Methodist Church
BEGIN:VEVENT
DTSTART;TZID=Europe/London:20180116T193000
DTEND;TZID=Europe/London:20180116T223000
DTSTAMP:20260425T162425
CREATED:20180109T114854Z
LAST-MODIFIED:20180109T114854Z
UID:210-1516131000-1516141800@www.methodistchurchmacclesfield.org.uk
SUMMARY:Wesley Guild meeting
DESCRIPTION:
URL:http://www.methodistchurchmacclesfield.org.uk/events/wesley-guild-meeting/
END:VEVENT
END:VCALENDAR